BEGIN:VCALENDAR
VERSION:2.0
PRODID:-//Qualicum Beach Chamber of Commerce - ECPv6.15.20//NONSGML v1.0//EN
CALSCALE:GREGORIAN
METHOD:PUBLISH
X-ORIGINAL-URL:https://qualicumbeachchamber.com
X-WR-CALDESC:Events for Qualicum Beach Chamber of Commerce
REFRESH-INTERVAL;VALUE=DURATION:PT1H
X-Robots-Tag:noindex
X-PUBLISHED-TTL:PT1H
BEGIN:VTIMEZONE
TZID:America/Vancouver
BEGIN:DAYLIGHT
TZOFFSETFROM:-0800
TZOFFSETTO:-0700
TZNAME:PDT
DTSTART:20250309T100000
END:DAYLIGHT
BEGIN:STANDARD
TZOFFSETFROM:-0700
TZOFFSETTO:-0800
TZNAME:PST
DTSTART:20251102T090000
END:STANDARD
BEGIN:DAYLIGHT
TZOFFSETFROM:-0800
TZOFFSETTO:-0700
TZNAME:PDT
DTSTART:20260308T100000
END:DAYLIGHT
BEGIN:STANDARD
TZOFFSETFROM:-0700
TZOFFSETTO:-0800
TZNAME:PST
DTSTART:20261101T090000
END:STANDARD
BEGIN:DAYLIGHT
TZOFFSETFROM:-0800
TZOFFSETTO:-0700
TZNAME:PDT
DTSTART:20270314T100000
END:DAYLIGHT
BEGIN:STANDARD
TZOFFSETFROM:-0700
TZOFFSETTO:-0800
TZNAME:PST
DTSTART:20271107T090000
END:STANDARD
END:VTIMEZONE
BEGIN:VEVENT
DTSTART;TZID=America/Vancouver:20260415T130000
DTEND;TZID=America/Vancouver:20260415T143000
DTSTAMP:20260424T060129
CREATED:20260423T190704Z
LAST-MODIFIED:20260423T190950Z
UID:10000874-1776258000-1776263400@qualicumbeachchamber.com
SUMMARY:Everyone Welcome Pro-D Day Swim
DESCRIPTION:Everyone Welcome Pro D Day Swim \n\n\n\nJoin us for a swim\, 1-2:30 p.m. Thursday\, May 14\, at Ravensong Aquatic Centre in Qualicum Beach. Regular admission. Contact RDN Recreation and Parks by calling 250-248-3252 or 250-752-5014 or go online to view all drop-in skate and swim times at rdn.bc.ca/recreation
URL:https://qualicumbeachchamber.com/event/everyone-welcome-pro-d-day-swim/2026-04-15/
LOCATION:Ravensong Aquatic Centre\, 737 Jones St\, Qualicum Beach\, BC V9K 1S4\, Qualicum Beach\, BC\, V9K 1S4
END:VEVENT
END:VCALENDAR