BEGIN:VCALENDAR
VERSION:2.0
PRODID:-//Qualicum Beach Chamber of Commerce - ECPv6.15.20//NONSGML v1.0//EN
CALSCALE:GREGORIAN
METHOD:PUBLISH
X-WR-CALNAME:Qualicum Beach Chamber of Commerce
X-ORIGINAL-URL:https://qualicumbeachchamber.com
X-WR-CALDESC:Events for Qualicum Beach Chamber of Commerce
REFRESH-INTERVAL;VALUE=DURATION:PT1H
X-Robots-Tag:noindex
X-PUBLISHED-TTL:PT1H
BEGIN:VTIMEZONE
TZID:America/Vancouver
BEGIN:DAYLIGHT
TZOFFSETFROM:-0800
TZOFFSETTO:-0700
TZNAME:PDT
DTSTART:20250309T100000
END:DAYLIGHT
BEGIN:STANDARD
TZOFFSETFROM:-0700
TZOFFSETTO:-0800
TZNAME:PST
DTSTART:20251102T090000
END:STANDARD
BEGIN:DAYLIGHT
TZOFFSETFROM:-0800
TZOFFSETTO:-0700
TZNAME:PDT
DTSTART:20260308T100000
END:DAYLIGHT
BEGIN:STANDARD
TZOFFSETFROM:-0700
TZOFFSETTO:-0800
TZNAME:PST
DTSTART:20261101T090000
END:STANDARD
BEGIN:DAYLIGHT
TZOFFSETFROM:-0800
TZOFFSETTO:-0700
TZNAME:PDT
DTSTART:20270314T100000
END:DAYLIGHT
BEGIN:STANDARD
TZOFFSETFROM:-0700
TZOFFSETTO:-0800
TZNAME:PST
DTSTART:20271107T090000
END:STANDARD
END:VTIMEZONE
BEGIN:VEVENT
DTSTART;TZID=America/Vancouver:20260425T083000
DTEND;TZID=America/Vancouver:20260425T120000
DTSTAMP:20260424T055958
CREATED:20260423T181722Z
LAST-MODIFIED:20260423T181725Z
UID:10000547-1777105800-1777118400@qualicumbeachchamber.com
SUMMARY:Qualicum Beach Farmers Market
DESCRIPTION:Visit Qualicum Beach Farmers Market every Saturday from 8:30am-12pm\, Year Round and enjoy an incredible selection of fresh produce and locally produced goods. Our vendors make\, bake\, or grow the products they offer for sale. \n\n\n\nGet to know who produces your food. Discover the wealth of mid-Island production from a wide variety of local home and commercial providers. Learn from them in person the joys and challenges of delivering quality fruits\, vegetables and berries\, maintaining heritage varieties and assuring the freshest and best flavoured homemade products. \n\n\n\nWe love your fur babies too\, but please leave your pets at home when visiting the market.
URL:https://qualicumbeachchamber.com/event/qualicum-beach-farmers-market/2026-04-25/
LOCATION:Qualicum Beach Community Hall\, 644 Memorial Ave\, Qualicum Beach\, BC\, V9K 1L8
END:VEVENT
BEGIN:VEVENT
DTSTART;TZID=America/Vancouver:20260425T100000
DTEND;TZID=America/Vancouver:20260425T130000
DTSTAMP:20260424T055958
CREATED:20260423T200058Z
LAST-MODIFIED:20260423T200105Z
UID:10000881-1777111200-1777122000@qualicumbeachchamber.com
SUMMARY:Oceanside Repair Cafe
DESCRIPTION:The Repair Café Oceanside is a free community event to which people can bring their damaged items from home. Volunteers skilled in repair contribute their time to help you get your items fixed for free! It’s also a chance to learn with like-minded folks who believe in reusing instead of just discarding still-useful goods into the landfill. You can watch and even help\, while enjoying a cup of tea or coffee. It is a positive\, friendly and interesting experience for all. \n\n\n\nA Repair Café event is being hosted on Saturday April 25th- from 10AM to 1PM. We have a variety of fixers focusing on small electronics\, tech\, appliances\, woodwork and furniture\, toys\, mending of clothing. \n\n\n\nThis event also connects to Earth Day\, 2026. What does Earth Day mean to you? To us\, it means repairing\, reusing\, recycling our favorite items. Our core values in our locally hosted Repair Cafe! \n\n\n\nCoffee\, tea and baked goods are always provided\, and we hope to provide a space that can save a few items from the landfill.
URL:https://qualicumbeachchamber.com/event/oceanside-repair-cafe/
LOCATION:St. Stephen’s United Church\, 150 Village Way\, Qualicum Beach\, BC\, V9K 0B5
END:VEVENT
BEGIN:VEVENT
DTSTART;TZID=America/Vancouver:20260425T180000
DTEND;TZID=America/Vancouver:20260425T210000
DTSTAMP:20260424T055958
CREATED:20260423T200459Z
LAST-MODIFIED:20260423T200503Z
UID:10000882-1777140000-1777150800@qualicumbeachchamber.com
SUMMARY:Lazy Mike & the Argyle Jets 
DESCRIPTION:Come on out to the Shady Rest Pub on Saturday April 25 for an evening of Good Food\, Great People\, and Bone Shakin’ Toe Tappin’ get up on the Dance floor Shakin’ what your Mama gave ya Rockin’ BLUES music\, with Lazy Mike & the Argyle Jets! Joint Starts Jumpin’ at 6pm precisely! No cover charge at the Shady\, so get there early!
URL:https://qualicumbeachchamber.com/event/lazy-mike-the-argyle-jets/
LOCATION:The Shady Rest\, 3109 Island Hwy W\, Qualicum Beach\, BC\, V9K 2N7
END:VEVENT
BEGIN:VEVENT
DTSTART;TZID=America/Vancouver:20260425T193000
DTEND;TZID=America/Vancouver:20260425T213000
DTSTAMP:20260424T055958
CREATED:20260423T172914Z
LAST-MODIFIED:20260423T172918Z
UID:10000017-1777145400-1777152600@qualicumbeachchamber.com
SUMMARY:Echo Players Presents: Shadows From a Low Stone Wall
DESCRIPTION:The saying goes “Old soldiers never die\, they simply fade away”. Not so with cranky old ex-army guy Jack. He will not surrender to the old folks’ home without a good fight. His schoolteacher daughter thinks if he can only visit her classroom of young innocents\, it might loosen his stubborn resolve. This could be a tall order though. When describing what serving your country was like in 1943\, will Jack expose his soft centre or a wound that has never healed? This is an adult drama about all the battles we face in life when only a low stone wall separates us from delicious peace. \n\n\n\nECHO Players welcomes Quesnel writer Roy Teed and veteran local director Robb Mowbray to the Village Theatre. Following its run in Qualicum Beach\, the production is slated to represent ECHO Players at the Theatre BC North Island Zone Festival in Nanaimo in May.
URL:https://qualicumbeachchamber.com/event/echo-players-presents-shadows-from-a-low-stone-wall/2026-04-25/
LOCATION:Village Theatre\, 110 W 2nd Ave\, Qualicum Beach\, BC\, V9K 1S8
END:VEVENT
BEGIN:VEVENT
DTSTART;TZID=America/Vancouver:20260425T200000
DTEND;TZID=America/Vancouver:20260425T230000
DTSTAMP:20260424T055958
CREATED:20260423T181035Z
LAST-MODIFIED:20260423T181040Z
UID:10000026-1777147200-1777158000@qualicumbeachchamber.com
SUMMARY:QBC Late Nights
DESCRIPTION:Catch Live Music every Friday & Saturday night at the Qualicum Beach Cafe.
URL:https://qualicumbeachchamber.com/event/qbc-late-nights/2026-04-25/
LOCATION:BC
END:VEVENT
END:VCALENDAR